BEGIN:VCALENDAR
VERSION:2.0
PRODID:-//Whats On Castlemilk//EN
BEGIN:VEVENT
UID=event-22-20260429T151500
DTSTAMP=20260421T081449Z
DTSTART:20260429T151500
SUMMARY:Pop-Up Play (FREE) - Birgidale Complex (Wed)
DTEND:20260429T171500
LOCATION:Birgidale Complex
DESCRIPTION:Pop-Up Play (5-12 years). Play session in a local venue delivered by the Playteam. Free.
URL:https://www.whatsoncastlemilk.co.uk/event/22/?occurrence=2026-04-29
END:VEVENT
END:VCALENDAR