BEGIN:VCALENDAR
VERSION:2.0
PRODID:-//Whats On Castlemilk//EN
BEGIN:VEVENT
UID=event-95-20260522T183000
DTSTAMP=20260421T082027Z
DTSTART:20260522T183000
SUMMARY:10+ years Boxers Training
DTEND:20260522T200000
LOCATION:Ranch ABC Boxing Club\, Enterprise Park Unit 97\, Glasgow\, G45 9EE
DESCRIPTION:Boxers class. 10+ years Contact organiser for cost.
URL:https://www.whatsoncastlemilk.co.uk/event/95/?occurrence=2026-05-22
END:VEVENT
END:VCALENDAR