BEGIN:VCALENDAR
VERSION:2.0
PRODID:-//Whats On Castlemilk//EN
BEGIN:VEVENT
UID=event-96-20260524T100000
DTSTAMP=20260421T081515Z
DTSTART:20260524T100000
SUMMARY:Morning Worship
DTEND:20260524T110000
LOCATION:Castlemilk Parish Church\, Dougrie Road
DESCRIPTION:Everyone welcome. For more info contact 07946 671733.
URL:https://www.whatsoncastlemilk.co.uk/event/96/?occurrence=2026-05-24
END:VEVENT
END:VCALENDAR