BEGIN:VCALENDAR
VERSION:2.0
PRODID:-//Whats On Castlemilk//EN
BEGIN:VEVENT
UID=event-96-20260614T100000
DTSTAMP=20260419T200202Z
DTSTART:20260614T100000
SUMMARY:Morning Worship
DTEND:20260614T110000
LOCATION:Castlemilk Parish Church\, Dougrie Road
DESCRIPTION:Everyone welcome. For more info contact 07946 671733.
URL:https://www.whatsoncastlemilk.co.uk/event/96/?occurrence=2026-06-14
END:VEVENT
END:VCALENDAR