BEGIN:VCALENDAR
VERSION:2.0
PRODID:-//Whats On Castlemilk//EN
BEGIN:VEVENT
UID=event-97-20260615T120000
DTSTAMP=20260419T200202Z
DTSTART:20260615T120000
SUMMARY:Soup and Sandwich
DTEND:20260615T130000
LOCATION:Castlemilk Parish Church\, Dougrie Road
DESCRIPTION:Everyone welcome. By donation. For more info contact 07946 671733.
URL:https://www.whatsoncastlemilk.co.uk/event/97/?occurrence=2026-06-15
END:VEVENT
END:VCALENDAR