BEGIN:VCALENDAR
VERSION:2.0
PRODID:-//Whats On Castlemilk//EN
BEGIN:VEVENT
UID=event-98-20260602T130000
DTSTAMP=20260419T163231Z
DTSTART:20260602T130000
SUMMARY:Tuesday Scones
DTEND:20260602T150000
LOCATION:Castlemilk Parish Church\, Dougrie Road
DESCRIPTION:Everyone welcome. For more info contact 07946 671733.
URL:https://www.whatsoncastlemilk.co.uk/event/98/?occurrence=2026-06-02
END:VEVENT
END:VCALENDAR